{
 "currentVersion": 10.71,
 "serviceDescription": "Contains scanned, un-rectified, georeferenced aerial photography for use in\nQImagery\n\nContact: Peter Reyne\n\n",
 "name": "Imagery/QldArchive_AerialPhotos",
 "description": "Contains scanned, un-rectified, georeferenced aerial photography for use in\nQImagery\n\nContact: Peter Reyne\n\n",
 "extent": {
  "xmin": 1.5329923187850146E7,
  "ymin": -3420084.472653418,
  "xmax": 1.7129167449280906E7,
  "ymax": -1029672.1769842578,
  "spatialReference": {
   "wkid": 102100,
   "latestWkid": 3857
  }
 },
 "initialExtent": {
  "xmin": 1.5329923187850146E7,
  "ymin": -3420084.472653418,
  "xmax": 1.7129167449280906E7,
  "ymax": -1029672.1769842578,
  "spatialReference": {
   "wkid": 102100,
   "latestWkid": 3857
  }
 },
 "fullExtent": {
  "xmin": 1.5329923187850146E7,
  "ymin": -3420084.472653418,
  "xmax": 1.7129167449280906E7,
  "ymax": -1029672.1769842578,
  "spatialReference": {
   "wkid": 102100,
   "latestWkid": 3857
  }
 },
 "pixelSizeX": 0.053606680000000025,
 "pixelSizeY": 0.05360668,
 "bandCount": 3,
 "pixelType": "U8",
 "minPixelSize": 0,
 "maxPixelSize": 0,
 "copyrightText": "© State of Queensland (Department of Resources) 2024",
 "serviceDataType": "esriImageServiceDataTypeRGB",
 "minValues": [],
 "maxValues": [],
 "meanValues": [],
 "stdvValues": [],
 "objectIdField": "OBJECTID",
 "fields": [
  {
   "name": "OBJECTID",
   "type": "esriFieldTypeOID",
   "alias": "OBJECTID",
   "domain": null
  },
  {
   "name": "NAME",
   "type": "esriFieldTypeString",
   "alias": "NAME",
   "domain": null,
   "length": 200
  },
  {
   "name": "MINPS",
   "type": "esriFieldTypeDouble",
   "alias": "MINPS",
   "domain": null
  },
  {
   "name": "MAXPS",
   "type": "esriFieldTypeDouble",
   "alias": "MAXPS",
   "domain": null
  },
  {
   "name": "LOWPS",
   "type": "esriFieldTypeDouble",
   "alias": "LOWPS",
   "domain": null
  },
  {
   "name": "HIGHPS",
   "type": "esriFieldTypeDouble",
   "alias": "HIGHPS",
   "domain": null
  },
  {
   "name": "CATEGORY",
   "type": "esriFieldTypeInteger",
   "alias": "CATEGORY",
   "domain": {
    "type": "codedValue",
    "name": "MosaicCatalogItemCategoryDomain",
    "description": "Catalog item categories.",
    "codedValues": [
     {
      "name": "Unknown",
      "code": 0
     },
     {
      "name": "Primary",
      "code": 1
     },
     {
      "name": "Overview",
      "code": 2
     },
     {
      "name": "Unprocessed Overview",
      "code": 3
     },
     {
      "name": "Partial Overview",
      "code": 4
     },
     {
      "name": "Inactive",
      "code": 5
     },
     {
      "name": "Uploaded",
      "code": 253
     },
     {
      "name": "Incomplete",
      "code": 254
     },
     {
      "name": "Custom",
      "code": 255
     }
    ],
    "mergePolicy": "esriMPTDefaultValue",
    "splitPolicy": "esriSPTDefaultValue"
   }
  },
  {
   "name": "TAG",
   "type": "esriFieldTypeString",
   "alias": "TAG",
   "domain": null,
   "length": 100
  },
  {
   "name": "GROUPNAME",
   "type": "esriFieldTypeString",
   "alias": "GROUPNAME",
   "domain": null,
   "length": 100
  },
  {
   "name": "PRODUCTNAME",
   "type": "esriFieldTypeString",
   "alias": "PRODUCTNAME",
   "domain": null,
   "length": 100
  },
  {
   "name": "CENTERX",
   "type": "esriFieldTypeDouble",
   "alias": "CENTERX",
   "domain": null
  },
  {
   "name": "CENTERY",
   "type": "esriFieldTypeDouble",
   "alias": "CENTERY",
   "domain": null
  },
  {
   "name": "ZORDER",
   "type": "esriFieldTypeInteger",
   "alias": "ZORDER",
   "domain": null
  },
  {
   "name": "TITLE",
   "type": "esriFieldTypeString",
   "alias": "Project Title",
   "domain": null,
   "length": 160
  },
  {
   "name": "ACTIVITY",
   "type": "esriFieldTypeString",
   "alias": "Project Purpose",
   "domain": null,
   "length": 7
  },
  {
   "name": "FILMPREFIX",
   "type": "esriFieldTypeString",
   "alias": "Film Prefix",
   "domain": null,
   "length": 6
  },
  {
   "name": "FILM",
   "type": "esriFieldTypeInteger",
   "alias": "Film Number",
   "domain": null
  },
  {
   "name": "RUNNUMBER",
   "type": "esriFieldTypeInteger",
   "alias": "Run Number",
   "domain": null
  },
  {
   "name": "RUNDIRECTION",
   "type": "esriFieldTypeString",
   "alias": "Run Direction",
   "domain": null,
   "length": 4
  },
  {
   "name": "SCALE",
   "type": "esriFieldTypeInteger",
   "alias": "Scale",
   "domain": null
  },
  {
   "name": "TIME",
   "type": "esriFieldTypeDate",
   "alias": "Flying Date/Time",
   "domain": null,
   "length": 8
  },
  {
   "name": "NEGATIVE",
   "type": "esriFieldTypeInteger",
   "alias": "Negative Type",
   "domain": {
    "type": "codedValue",
    "name": "Negatives",
    "description": "",
    "codedValues": [
     {
      "name": "Unknown",
      "code": 0
     },
     {
      "name": "Colour",
      "code": 1
     },
     {
      "name": "Black & White",
      "code": 2
     },
     {
      "name": "Infra-Red",
      "code": 3
     }
    ],
    "mergePolicy": "esriMPTDefaultValue",
    "splitPolicy": "esriSPTDuplicate"
   }
  },
  {
   "name": "FLYINGHEIGHTMETRES",
   "type": "esriFieldTypeDouble",
   "alias": "Flying Height in metres",
   "domain": null
  },
  {
   "name": "DATUMHEIGHTMETRES",
   "type": "esriFieldTypeDouble",
   "alias": "Datum Height in metres",
   "domain": null
  },
  {
   "name": "FOCALLENGTHMILLIMETRES",
   "type": "esriFieldTypeDouble",
   "alias": "Focal Length in Millimetres",
   "domain": null
  },
  {
   "name": "LENSNUMBER",
   "type": "esriFieldTypeString",
   "alias": "Lens Number",
   "domain": null,
   "length": 10
  },
  {
   "name": "BEGINDATE",
   "type": "esriFieldTypeDate",
   "alias": "Project Begin Date",
   "domain": null,
   "length": 8
  },
  {
   "name": "ENDDATE",
   "type": "esriFieldTypeDate",
   "alias": "Project End Date",
   "domain": null,
   "length": 8
  },
  {
   "name": "ACCESSCONST",
   "type": "esriFieldTypeString",
   "alias": "Access Constraints",
   "domain": null,
   "length": 800
  },
  {
   "name": "LICENSETYPE",
   "type": "esriFieldTypeInteger",
   "alias": "Licence Type",
   "domain": {
    "type": "codedValue",
    "name": "licensetype",
    "description": "License Type",
    "codedValues": [
     {
      "name": "Whole of Government",
      "code": "whole_of_gov"
     },
     {
      "name": "Whole of Jurisdiction",
      "code": "whole_of_juris"
     },
     {
      "name": "Restricted",
      "code": "restricted"
     }
    ],
    "mergePolicy": "esriMPTDefaultValue",
    "splitPolicy": "esriSPTDefaultValue"
   }
  },
  {
   "name": "FRAME",
   "type": "esriFieldTypeInteger",
   "alias": "Frame number",
   "domain": null
  },
  {
   "name": "AVAILABLE",
   "type": "esriFieldTypeInteger",
   "alias": "File Available",
   "domain": {
    "type": "codedValue",
    "name": "Boolean",
    "description": "",
    "codedValues": [
     {
      "name": "False",
      "code": 0
     },
     {
      "name": "True",
      "code": 1
     }
    ],
    "mergePolicy": "esriMPTDefaultValue",
    "splitPolicy": "esriSPTDuplicate"
   }
  },
  {
   "name": "SHAPE",
   "type": "esriFieldTypeGeometry",
   "alias": "SHAPE",
   "domain": null
  }
 ],
 "capabilities": "Catalog,Download,Image,Metadata",
 "defaultMosaicMethod": "ByAttribute",
 "allowedMosaicMethods": "ByAttribute,LockRaster,None",
 "sortField": "NAME",
 "sortValue": "0",
 "mosaicOperator": "First",
 "maxDownloadSizeLimit": 2048,
 "defaultCompressionQuality": 75,
 "defaultResamplingMethod": "Bilinear",
 "maxImageHeight": 4100,
 "maxImageWidth": 7680,
 "maxRecordCount": 1000,
 "maxDownloadImageCount": 20,
 "maxMosaicImageCount": 20,
 "allowRasterFunction": true,
 "rasterFunctionInfos": [
  {
   "name": "None",
   "description": "A No-Op Function.",
   "help": ""
  }
 ],
 "rasterTypeInfos": [
  {
   "name": "Raster Dataset",
   "description": "Supports all ArcGIS Raster Datasets",
   "help": ""
  }
 ],
 "mensurationCapabilities": "None",
 "hasHistograms": false,
 "hasColormap": false,
 "hasRasterAttributeTable": false,
 "minScale": 0,
 "maxScale": 0,
 "exportTilesAllowed": false,
 "hasMultidimensions": false,
 "supportsStatistics": true,
 "supportsAdvancedQueries": true,
 "editFieldsInfo": null,
 "ownershipBasedAccessControlForRasters": null,
 "allowComputeTiePoints": false,
 "useStandardizedQueries": true,
 "advancedQueryCapabilities": {
  "useStandardizedQueries": true,
  "supportsStatistics": true,
  "supportsOrderBy": true,
  "supportsDistinct": true,
  "supportsPagination": true
 },
 "spatialReference": {
  "wkid": 102100,
  "latestWkid": 3857
 }
}
