View In:
ArcGIS JavaScript
ArcGIS Online Map Viewer
ArcGIS Earth
ArcMap
View Footprint In:
ArcGIS Online Map Viewer
Service Description: Contains scanned, un-rectified, georeferenced aerial photography for use in
QImagery
Contact: Peter Reyne
Name: Imagery/QldArchive_AerialPhotos
Description: Contains scanned, un-rectified, georeferenced aerial photography for use in
QImagery
Contact: Peter Reyne
Single Fused Map Cache: false
Extent:
XMin: 1.5329923187850146E7
YMin: -3420084.472653418
XMax: 1.7129167449280906E7
YMax: -1029672.1769842578
Spatial Reference: 102100
(3857)
Initial Extent:
XMin: 1.5329923187850146E7
YMin: -3420084.472653418
XMax: 1.7129167449280906E7
YMax: -1029672.1769842578
Spatial Reference: 102100
(3857)
Full Extent:
XMin: 1.5329923187850146E7
YMin: -3420084.472653418
XMax: 1.7129167449280906E7
YMax: -1029672.1769842578
Spatial Reference: 102100
(3857)
Pixel Size X: 0.053606680000000025
Pixel Size Y: 0.05360668
Band Count: 3
Pixel Type: U8
RasterFunction Infos: {"rasterFunctionInfos": [{
"name": "None",
"description": "A No-Op Function.",
"help": ""
}]}
Mensuration Capabilities: None
Has Histograms: false
Has Colormap: false
Has Multi Dimensions : false
Rendering Rule:
Min Scale: 0
Max Scale: 0
Copyright Text: © State of Queensland (Department of Resources) 2024
Service Data Type: esriImageServiceDataTypeRGB
Min Values: N/A
Max Values: N/A
Mean Values: N/A
Standard Deviation Values: N/A
Object ID Field: OBJECTID
Fields:
-
OBJECTID
(
type: esriFieldTypeOID, alias: OBJECTID
)
-
NAME
(
type: esriFieldTypeString, alias: NAME, length: 200
)
-
MINPS
(
type: esriFieldTypeDouble, alias: MINPS
)
-
MAXPS
(
type: esriFieldTypeDouble, alias: MAXPS
)
-
LOWPS
(
type: esriFieldTypeDouble, alias: LOWPS
)
-
HIGHPS
(
type: esriFieldTypeDouble, alias: HIGHPS
)
-
CATEGORY
(
type: esriFieldTypeInteger, alias: CATEGORY
, Coded Values:
[0: Unknown]
, [1: Primary]
, [2: Overview]
, ...6 more...
)
-
TAG
(
type: esriFieldTypeString, alias: TAG, length: 100
)
-
GROUPNAME
(
type: esriFieldTypeString, alias: GROUPNAME, length: 100
)
-
PRODUCTNAME
(
type: esriFieldTypeString, alias: PRODUCTNAME, length: 100
)
-
CENTERX
(
type: esriFieldTypeDouble, alias: CENTERX
)
-
CENTERY
(
type: esriFieldTypeDouble, alias: CENTERY
)
-
ZORDER
(
type: esriFieldTypeInteger, alias: ZORDER
)
-
TITLE
(
type: esriFieldTypeString, alias: Project Title, length: 160
)
-
ACTIVITY
(
type: esriFieldTypeString, alias: Project Purpose, length: 7
)
-
FILMPREFIX
(
type: esriFieldTypeString, alias: Film Prefix, length: 6
)
-
FILM
(
type: esriFieldTypeInteger, alias: Film Number
)
-
RUNNUMBER
(
type: esriFieldTypeInteger, alias: Run Number
)
-
RUNDIRECTION
(
type: esriFieldTypeString, alias: Run Direction, length: 4
)
-
SCALE
(
type: esriFieldTypeInteger, alias: Scale
)
-
TIME
(
type: esriFieldTypeDate, alias: Flying Date/Time, length: 8
)
-
NEGATIVE
(
type: esriFieldTypeInteger, alias: Negative Type
, Coded Values:
[0: Unknown]
, [1: Colour]
, [2: Black & White]
, ...1 more...
)
-
FLYINGHEIGHTMETRES
(
type: esriFieldTypeDouble, alias: Flying Height in metres
)
-
DATUMHEIGHTMETRES
(
type: esriFieldTypeDouble, alias: Datum Height in metres
)
-
FOCALLENGTHMILLIMETRES
(
type: esriFieldTypeDouble, alias: Focal Length in Millimetres
)
-
LENSNUMBER
(
type: esriFieldTypeString, alias: Lens Number, length: 10
)
-
BEGINDATE
(
type: esriFieldTypeDate, alias: Project Begin Date, length: 8
)
-
ENDDATE
(
type: esriFieldTypeDate, alias: Project End Date, length: 8
)
-
ACCESSCONST
(
type: esriFieldTypeString, alias: Access Constraints, length: 800
)
-
LICENSETYPE
(
type: esriFieldTypeInteger, alias: Licence Type
, Coded Values:
[whole_of_gov: Whole of Government]
, [whole_of_juris: Whole of Jurisdiction]
, [restricted: Restricted]
)
-
FRAME
(
type: esriFieldTypeInteger, alias: Frame number
)
-
AVAILABLE
(
type: esriFieldTypeInteger, alias: File Available
, Coded Values:
[0: False]
, [1: True]
)
-
SHAPE
(
type: esriFieldTypeGeometry, alias: SHAPE
)
Default Mosaic Method: ByAttribute
Allowed Mosaic Methods: ByAttribute,LockRaster,None
SortField: NAME
SortValue: 0
Mosaic Operator: First
Default Compression Quality: 75
Default Resampling Method: Bilinear
Max Record Count: 1000
Max Image Height: 4100
Max Image Width: 7680
Max Download Image Count: 20
Max Mosaic Image Count: 20
Allow Raster Function: true
Allow Compute TiePoints: false
Supports Statistics: true
Supports Advanced Queries: true
Use StandardizedQueries: true
Raster Type Infos:
Name: Raster Dataset
Description: Supports all ArcGIS Raster Datasets
Help:
Has Raster Attribute Table: false
Edit Fields Info: null
Ownership Based AccessControl For Rasters: null
Child Resources:
Info
Key Properties
Legend
MultiDimensionalInfo
rasterFunctionInfos
Supported Operations:
Export Image
Query
Identify
Download Rasters
Compute Histograms
Compute Statistics Histograms
Get Samples
Compute Class Statistics
Query Boundary
Compute Pixel Location